BEGIN:VCALENDAR
VERSION:2.0
PRODID:-//Alpha Kappa Alpha Sorority, Inc.&reg; | Upsilon Xi Omega Chapter - ECPv6.2.6//NONSGML v1.0//EN
CALSCALE:GREGORIAN
METHOD:PUBLISH
X-WR-CALNAME:Alpha Kappa Alpha Sorority, Inc.&reg; | Upsilon Xi Omega Chapter
X-ORIGINAL-URL:https://www.akauxo.org
X-WR-CALDESC:Events for Alpha Kappa Alpha Sorority, Inc.&reg; | Upsilon Xi Omega Chapter
REFRESH-INTERVAL;VALUE=DURATION:PT1H
X-Robots-Tag:noindex
X-PUBLISHED-TTL:PT1H
BEGIN:VTIMEZONE
TZID:America/New_York
BEGIN:DAYLIGHT
TZOFFSETFROM:-0500
TZOFFSETTO:-0400
TZNAME:EDT
DTSTART:20190310T070000
END:DAYLIGHT
BEGIN:STANDARD
TZOFFSETFROM:-0400
TZOFFSETTO:-0500
TZNAME:EST
DTSTART:20191103T060000
END:STANDARD
BEGIN:DAYLIGHT
TZOFFSETFROM:-0500
TZOFFSETTO:-0400
TZNAME:EDT
DTSTART:20200308T070000
END:DAYLIGHT
BEGIN:STANDARD
TZOFFSETFROM:-0400
TZOFFSETTO:-0500
TZNAME:EST
DTSTART:20201101T060000
END:STANDARD
BEGIN:DAYLIGHT
TZOFFSETFROM:-0500
TZOFFSETTO:-0400
TZNAME:EDT
DTSTART:20210314T070000
END:DAYLIGHT
BEGIN:STANDARD
TZOFFSETFROM:-0400
TZOFFSETTO:-0500
TZNAME:EST
DTSTART:20211107T060000
END:STANDARD
BEGIN:DAYLIGHT
TZOFFSETFROM:-0500
TZOFFSETTO:-0400
TZNAME:EDT
DTSTART:20220313T070000
END:DAYLIGHT
BEGIN:STANDARD
TZOFFSETFROM:-0400
TZOFFSETTO:-0500
TZNAME:EST
DTSTART:20221106T060000
END:STANDARD
BEGIN:DAYLIGHT
TZOFFSETFROM:-0500
TZOFFSETTO:-0400
TZNAME:EDT
DTSTART:20230312T070000
END:DAYLIGHT
BEGIN:STANDARD
TZOFFSETFROM:-0400
TZOFFSETTO:-0500
TZNAME:EST
DTSTART:20231105T060000
END:STANDARD
BEGIN:DAYLIGHT
TZOFFSETFROM:-0500
TZOFFSETTO:-0400
TZNAME:EDT
DTSTART:20240310T070000
END:DAYLIGHT
BEGIN:STANDARD
TZOFFSETFROM:-0400
TZOFFSETTO:-0500
TZNAME:EST
DTSTART:20241103T060000
END:STANDARD
BEGIN:DAYLIGHT
TZOFFSETFROM:-0500
TZOFFSETTO:-0400
TZNAME:EDT
DTSTART:20250309T070000
END:DAYLIGHT
BEGIN:STANDARD
TZOFFSETFROM:-0400
TZOFFSETTO:-0500
TZNAME:EST
DTSTART:20251102T060000
END:STANDARD
BEGIN:DAYLIGHT
TZOFFSETFROM:-0500
TZOFFSETTO:-0400
TZNAME:EDT
DTSTART:20260308T070000
END:DAYLIGHT
BEGIN:STANDARD
TZOFFSETFROM:-0400
TZOFFSETTO:-0500
TZNAME:EST
DTSTART:20261101T060000
END:STANDARD
END:VTIMEZONE
BEGIN:VEVENT
DTSTART;TZID=America/New_York:20260110T130000
DTEND;TZID=America/New_York:20260110T170000
DTSTAMP:20260425T124106
CREATED:20260106T201909Z
LAST-MODIFIED:20260106T201909Z
UID:794-1768050000-1768064400@www.akauxo.org
SUMMARY:The Ivy Lounge Day Party: Sip\, Socialize & Support
DESCRIPTION:Join The Pearls Foundation for an upscale\, vibrant afternoon at The Ivy Lounge Day Party – where music\, culture\, and community come together for a meaningful cause! \nParty for a Purpose!                                                                                                   \nEvery sip and every dance step helps fund: \nYouth development programs \nInitiatives empowering women\, families& children \nSupport for underserved communities across Broward County \nDon’t just party – make an impact.
URL:https://www.akauxo.org/event/the-ivy-lounge-day-party-sip-socialize-support/
LOCATION:The Ivy Lounge\, 2050 Hollywood Blvd\, Hollywood\, FL\, 33020\, United States
ATTACH;FMTTYPE=image/jpeg:https://www.akauxo.org/wp-content/uploads/2026/01/Ivy-lounge-day-party-flyer.jpg
ORGANIZER;CN="PEARLS Foundation%2C Inc.":MAILTO:uxopearls@gmail.com
END:VEVENT
BEGIN:VEVENT
DTSTART;TZID=America/New_York:20201109T183000
DTEND;TZID=America/New_York:20201109T200000
DTSTAMP:20260425T124106
CREATED:20201104T055845Z
LAST-MODIFIED:20201104T060131Z
UID:509-1604946600-1604952000@www.akauxo.org
SUMMARY:Virtual Homebuyer Workshop
DESCRIPTION:Target 3\, Building Economic Legacy\, of the Upsilon Xi Omega Chapter of Alpha Kappa Alpha Sorority\, Inc. is sponsoring a Virtual Homebuyer Workshop on Monday\, November 9\, 2020 at 6:30 p.m. The Workshop is free and open to the public. \nTopics to be discussed include steps to purchasing a home\, credit report repair and review\, how to obtain grant funds and other homebuyer program resources. \nRegistration Link: http://bit.ly/UXOHomebuyerWorkshop
URL:https://www.akauxo.org/event/virtual-homebuyer-workshop/
LOCATION:FL
ATTACH;FMTTYPE=image/png:https://www.akauxo.org/wp-content/uploads/2020/11/Homebuyer-EconomicLegacy-2020-Flyer-1.png
END:VEVENT
BEGIN:VEVENT
DTSTART;TZID=America/New_York:20201030T183000
DTEND;TZID=America/New_York:20201030T203000
DTSTAMP:20260425T124106
CREATED:20201024T000710Z
LAST-MODIFIED:20201024T005303Z
UID:495-1604082600-1604089800@www.akauxo.org
SUMMARY:Drop the Mic
DESCRIPTION:[vc_row][vc_column width=”1/1″][vc_column_text]The women of Chi Psi Omega and Upsilon Xi Omega chapters of Alpha Kappa Alpha Sorority\, Inc. invite you to Drop the Mic! Drop the Mic is a talent showcase featuring budding artists and entertainers from the ages of 6-16. Join us along with our Host K Foxx\, Friday\, October 30 @ 6:30 pm via Facebook Live! We will honor musicians and artists from the Harlem Renaissance\, while being entertained by some of Broward County’s brightest rising stars![/vc_column_text][/vc_column][/vc_row]
URL:https://www.akauxo.org/event/drop-the-mic/
LOCATION:FL
END:VEVENT
BEGIN:VEVENT
DTSTART;TZID=America/New_York:20200502T113000
DTEND;TZID=America/New_York:20200502T180000
DTSTAMP:20260425T124106
CREATED:20200201T202013Z
LAST-MODIFIED:20200201T205226Z
UID:419-1588419000-1588442400@www.akauxo.org
SUMMARY:Derby Day: Off to the Races for Education
DESCRIPTION:
URL:https://www.akauxo.org/event/derby-day-off-to-the-races-for-education/
LOCATION:Gulfstream Park Racing & Casino\, United States
ATTACH;FMTTYPE=image/png:https://www.akauxo.org/wp-content/uploads/2020/02/2020-DerbyDays-4x6-SaveTheDate.png
ORGANIZER;CN="PEARLS Foundation%2C Inc.":MAILTO:uxopearls@gmail.com
END:VEVENT
BEGIN:VEVENT
DTSTART;TZID=America/New_York:20200426T140000
DTEND;TZID=America/New_York:20200426T170000
DTSTAMP:20260425T124106
CREATED:20200201T201308Z
LAST-MODIFIED:20200201T205142Z
UID:415-1587909600-1587920400@www.akauxo.org
SUMMARY:Derby Day Fashion Show & VIP Shopping Day
DESCRIPTION:
URL:https://www.akauxo.org/event/derby-day-fashion-show-vip-shopping-day/
LOCATION:Macy’s – Aventura Mall\, 19535 Biscayne Blvd\, Aventura\, FL\, 33180\, United States
ATTACH;FMTTYPE=image/png:https://www.akauxo.org/wp-content/uploads/2020/02/2020-Macys-Derby-Day-VIP-Event.png
END:VEVENT
BEGIN:VEVENT
DTSTART;TZID=America/New_York:20200229T160000
DTEND;TZID=America/New_York:20200229T190000
DTSTAMP:20260425T124106
CREATED:20200201T200446Z
LAST-MODIFIED:20200201T205011Z
UID:411-1582992000-1583002800@www.akauxo.org
SUMMARY:Pearls of Excellence Community Service Awards
DESCRIPTION:
URL:https://www.akauxo.org/event/pearls-of-excellence-community-service-awards/
LOCATION:Plantation Preserve\, 7050 W. Broward Blvd.\, Plantation\, FL\, 33317\, United States
ATTACH;FMTTYPE=image/png:https://www.akauxo.org/wp-content/uploads/2020/02/Pearls-of-Excellence-Community-Awards.png
ORGANIZER;CN="PEARLS Foundation%2C Inc.":MAILTO:uxopearls@gmail.com
END:VEVENT
BEGIN:VEVENT
DTSTART;TZID=America/New_York:20200208T110000
DTEND;TZID=America/New_York:20200208T140000
DTSTAMP:20260425T124106
CREATED:20200201T195600Z
LAST-MODIFIED:20200201T204934Z
UID:405-1581159600-1581170400@www.akauxo.org
SUMMARY:Pink Goes Red!
DESCRIPTION:
URL:https://www.akauxo.org/event/pink-goes-red-2/
LOCATION:Plantation Middle School\, 6600 W Sunrise Blvd\, Plantation\, FL\, 33313\, United States
ATTACH;FMTTYPE=image/png:https://www.akauxo.org/wp-content/uploads/2020/02/2020-PinkGR-Flyer.png
END:VEVENT
BEGIN:VEVENT
DTSTART;TZID=America/New_York:20191215T140000
DTEND;TZID=America/New_York:20191215T190000
DTSTAMP:20260425T124106
CREATED:20191203T233442Z
LAST-MODIFIED:20191203T234649Z
UID:334-1576418400-1576436400@www.akauxo.org
SUMMARY:Sparking Pink & Holiday Green SunDaze Day Party
DESCRIPTION:PEARLS Foundation\, Inc. The Charitable Arm of Upsilon Xi Omega Chapter of Alpha Kappa Alpha Sorority\, Inc. Presents a holiday extravaganza! \nSparking Pink & Holiday Green SunDaze Day Party\n  \n954-401-0977
URL:https://www.akauxo.org/event/sparking-pink-holiday-green-sundaze-day-party/
LOCATION:The Palace Hollywood\, 2029 Harrison St.\, Hollywood\, FL\, 33020\, United States
ATTACH;FMTTYPE=image/png:https://www.akauxo.org/wp-content/uploads/2019/12/image0.png
ORGANIZER;CN="PEARLS Foundation%2C Inc.":MAILTO:uxopearls@gmail.com
END:VEVENT
BEGIN:VEVENT
DTSTART;TZID=America/New_York:20191028T080000
DTEND;TZID=America/New_York:20191028T170000
DTSTAMP:20260425T124106
CREATED:20190806T054956Z
LAST-MODIFIED:20190806T054956Z
UID:166-1572249600-1572282000@www.akauxo.org
SUMMARY:Pink Sundaze
DESCRIPTION:
URL:https://www.akauxo.org/event/pink-sundaze/
LOCATION:FL
ATTACH;FMTTYPE=image/jpeg:https://www.akauxo.org/wp-content/uploads/2019/08/42851972_1111164452397872_2309893163373821952_n.jpg
END:VEVENT
BEGIN:VEVENT
DTSTART;TZID=America/New_York:20190912T080000
DTEND;TZID=America/New_York:20190912T170000
DTSTAMP:20260425T124106
CREATED:20190806T055128Z
LAST-MODIFIED:20190806T055128Z
UID:170-1568275200-1568307600@www.akauxo.org
SUMMARY:Pearls in the Park
DESCRIPTION:
URL:https://www.akauxo.org/event/pearls-in-the-park/
LOCATION:FL
ATTACH;FMTTYPE=image/png:https://www.akauxo.org/wp-content/uploads/2019/08/Screen-Shot-2019-08-06-at-1.47.45-AM.png
END:VEVENT
BEGIN:VEVENT
DTSTART;TZID=America/New_York:20190904T080000
DTEND;TZID=America/New_York:20190904T170000
DTSTAMP:20260425T124106
CREATED:20190806T054635Z
LAST-MODIFIED:20190806T054635Z
UID:159-1567584000-1567616400@www.akauxo.org
SUMMARY:Derby Days
DESCRIPTION:
URL:https://www.akauxo.org/event/derby-days/
LOCATION:Gulfstream Park Racing & Casino\, United States
ATTACH;FMTTYPE=image/jpeg:https://www.akauxo.org/wp-content/uploads/2019/08/52770528_1208882479292735_634189029771837440_n.jpg
END:VEVENT
BEGIN:VEVENT
DTSTART;TZID=America/New_York:20190823T080000
DTEND;TZID=America/New_York:20190823T170000
DTSTAMP:20260425T124106
CREATED:20190806T054849Z
LAST-MODIFIED:20190806T054849Z
UID:163-1566547200-1566579600@www.akauxo.org
SUMMARY:Pink Goes Red
DESCRIPTION:
URL:https://www.akauxo.org/event/pink-goes-red/
LOCATION:FL
ATTACH;FMTTYPE=image/jpeg:https://www.akauxo.org/wp-content/uploads/2019/08/37565426_1046804038833914_1737723448471322624_n.jpg
END:VEVENT
END:VCALENDAR